BEGIN:VCALENDAR
VERSION:2.0
PRODID:-//ChamberMaster//Event Calendar 2.0//EN
METHOD:PUBLISH
X-PUBLISHED-TTL:P3D
REFRESH-INTERVAL:P3D
CALSCALE:GREGORIAN
BEGIN:VEVENT
DTSTART:20260510T143000Z
DTEND:20260510T193000Z
X-MICROSOFT-CDO-ALLDAYEVENT:FALSE
SUMMARY:Mother's Day Brunch at Faranda's
DESCRIPTION:Celebrate Mom with a special Mother's Day Brunch at Faranda's! Join us on Sunday\, May 10th for a memorable dining experience featuring an abundant brunch buffet\, chef-attended stations\, and a variety of sweet and savory favorites the whole family will enjoy.\n\nGuests can indulge in classic breakfast selections\, carved meats\, fresh salads\, decadent desserts\, and more all served in an welcoming setting. Whether you are looking for an experience for two or a new family tradition\, Faranda's is the perfect place to gather and celebrate the moms in your life.\n\nSeating times are available every 15 minutes from 9:30am to 2:30pm. Reservations are required and fill quickly\, so be sure to reserve your table in advance.\n\nMake this Mother's Day one to remember treat Mom to a relaxing and delicious brunch at Faranda's!
X-ALT-DESC;FMTTYPE=text/html:<p>Celebrate Mom with a special Mother&rsquo\;s Day Brunch at Faranda&rsquo\;s! Join us on Sunday\, May 10th for a memorable dining experience featuring an abundant brunch buffet\, chef-attended stations\, and a variety of sweet and savory favorites the whole family will enjoy.</p>\n\n<p>Guests can indulge in classic breakfast selections\, carved meats\, fresh salads\, decadent desserts\, and more&mdash\;all served in an welcoming setting. Whether you are looking for an experience for two or a new family tradition\, Faranda&rsquo\;s is the perfect place to gather and celebrate the moms in your life.</p>\n\n<p>Seating times are available every 15 minutes from 9:30am to 2:30pm. Reservations are required and fill quickly\, so be sure to reserve your table in advance.</p>\n\n<p>Make this Mother&rsquo\;s Day one to remember&mdash\;treat Mom to a relaxing and delicious brunch at Faranda&rsquo\;s!</p>\n
LOCATION:Faranda's Banquet Center 302 Grove Street DeKalb IL\, 60115
UID:e.446.13987
SEQUENCE:3
DTSTAMP:20260419T202751Z
URL:https://members.sycamorechamber.com/events/details/mother-s-day-brunch-at-faranda-s-13987
END:VEVENT

END:VCALENDAR
