BEGIN:VCALENDAR
VERSION:2.0
PRODID:-//ChamberMaster//Event Calendar 2.0//EN
METHOD:PUBLISH
X-PUBLISHED-TTL:P3D
REFRESH-INTERVAL:P3D
CALSCALE:GREGORIAN
BEGIN:VEVENT
DTSTART:20260430T160000Z
DTEND:20260430T210000Z
X-MICROSOFT-CDO-ALLDAYEVENT:FALSE
SUMMARY:Together for DeKalb County
DESCRIPTION:FREE "Meet-and-Greet" event for our small non-profits to connect and network with local businesses and the community! Stop by and find out how you\, your business\, or organization can support or collaborate with these essential non-profits.
X-ALT-DESC;FMTTYPE=text/html:FREE &ldquo\;Meet-and-Greet&rdquo\; event for our small non-profits to connect and network with local businesses and the community! Stop by and find out how you\, your business\, or organization can support or collaborate with these essential non-profits.
LOCATION:316 N 6th St.\, DeKalb Il
UID:e.446.13994
SEQUENCE:3
DTSTAMP:20260424T213125Z
URL:https://members.sycamorechamber.com/events/details/together-for-dekalb-county-13994
END:VEVENT

END:VCALENDAR
